BEGIN:VCALENDAR
VERSION:2.0
PRODID:-//Volt Europa//Events//EN
CALSCALE:GREGORIAN
METHOD:PUBLISH
BEGIN:VEVENT
UID:lezing-how-to-defend-europe-en-1760547600@voltbelgium.org
DTSTAMP:20260423T105526Z
DTSTART;TZID=Europe/Amsterdam:20251015T190000
DTEND;TZID=Europe/Amsterdam:20251015T220000
SUMMARY:Lezing: How to defend Europe? [EN]
DESCRIPTION:Waar Oud vredegerecht\, Ledebergplein 30\, 9050 Ledeberg Uur 19
 u-22u Toegang Gratis Herbekijk de lezing  hier . Herbekijk de presentaties 
  hier . We brengen drie experten rond Europese defensie samen die elk een h
 alfuurtje hun expertise toelichten. Om het maximaal toegankelijk te houden 
 en het internationale karakter in het licht te zetten\, wordt de presentati
 e in het Engels gegeven\, maar de sprekers spreken allen ook Nederlands. Sh
 aping Europe's defence: Volt's actions in the European Parliament 
LOCATION:Oud vredegerecht\, Ledebergplein 30\, 9050 Ledeberg
URL:https://voltbelgie.org/agenda/lezing-how-to-defend-europe-en
END:VEVENT
END:VCALENDAR
