BEGIN:VCALENDAR
VERSION:2.0
PRODID:-//Volt Europa//Events//EN
CALSCALE:GREGORIAN
METHOD:PUBLISH
BEGIN:VEVENT
UID:lokale-algemene-vergadering-1768849200@voltbelgium.org
DTSTAMP:20260423T105457Z
DTSTART;TZID=Europe/Amsterdam:20260119T200000
DTEND;TZID=Europe/Amsterdam:20260119T220000
SUMMARY:Lokale Algemene Vergadering
DESCRIPTION:Waar Bedrijvencentrum De Punt\, Kerkstraat 108\, 9050 Gentbrugg
 e Uur 20u-22u Toegang Gratis:  iedereen is welkom Wees welkom bij onze loka
 le vergadering! Volg mee hoe we binnen Volt democratie omarmen en leer als 
 eerste de nieuwe covoorzitters kennen. Iedereen is welkom\, maar enkel Volt
  leden die al minstens 30 dagen lid zijn hebben stemrecht. 🙋‍♀️ Er
  staan  meerdere posities  open De twee verplichte posities zijn het gender
 diverse dubbele covoorzitterschap. We hopen op een groot enthousiasme voor
LOCATION:Bedrijvencentrum De Punt\, Kerkstraat 108\, 9050 Gentbrugge
URL:https://voltbelgie.org/oost-vlaanderen/agenda/lokale-algemene-vergaderi
 ng
END:VEVENT
END:VCALENDAR
