BEGIN:VCALENDAR
VERSION:2.0
PRODID:-//Volt Europa//Events//EN
CALSCALE:GREGORIAN
METHOD:PUBLISH
BEGIN:VEVENT
UID:meet-greet-aalst-1779382800@voltbelgium.org
DTSTAMP:20260422T023142Z
DTSTART;TZID=Europe/Amsterdam:20260521T190000
DTEND;TZID=Europe/Amsterdam:20260521T220000
SUMMARY:Meet & Greet Aalst
DESCRIPTION:Ideale eerste introductie Wil je in Gent een verschil maken met
  Volt en mee nadenken over het beleid? Of wil je eerst Volt Europa of Volt 
 België leren kennen? Kom dan gezellig kennismaken met de leden van Volt Oo
 st- en West-Vlaanderen! Drink samen met ons een pintje of een limonade en o
 ntdek hoe wij naar de toekomst kijken. Ben je wat later? Geen probleem\, je
  kan de hele avond aansluiten. Vind je ons niet? Stuur een mailtje naar  ge
 nt@voltbelgie.org  of instagram berichtje naar  @voltgent .
LOCATION:Café Den Babbelaer\, Klapstraat 3\, 9300 Aalst
URL:https://voltbelgie.org/oost-vlaanderen/agenda/meet-greet-aalst
END:VEVENT
END:VCALENDAR
