BEGIN:VCALENDAR
VERSION:2.0
PRODID:-//Volt Europa//Events//EN
CALSCALE:GREGORIAN
METHOD:PUBLISH
BEGIN:VEVENT
UID:meet-greet-gent-2026-01-15-1768500000@voltbelgium.org
DTSTAMP:20260423T105601Z
DTSTART;TZID=Europe/Amsterdam:20260115T190000
DTEND;TZID=Europe/Amsterdam:20260115T220000
SUMMARY:Meet & Greet Gent
DESCRIPTION:Waar Eltòn\, Kon. Maria Hendrikaplein 36\, 9000 Gent  aan stat
 ion Gent-Sint-Pieters Uur 19u-22u Toegang Gratis:  iedereen is welkom Ideal
 e eerste introductie Wil je in Gent een verschil maken met Volt en mee nade
 nken over het beleid? Of wil je eerst Volt Europa of Volt België leren ken
 nen? Kom dan gezellig kennismaken met de leden van Volt Oost- en West-Vlaan
 deren! Drink samen met ons een pintje of een limonade en ontdek hoe wij naa
 r de toekomst kijken. Ben je wat later? Geen probleem\, je kan de h
LOCATION:Eltòn\, Kon. Maria Hendrikaplein 36\, 9000 Gent
URL:https://voltbelgie.org/oost-vlaanderen/agenda/meet-greet-gent-2026-01-1
 5
END:VEVENT
END:VCALENDAR
