BEGIN:VCALENDAR
VERSION:2.0
PRODID:-//Volt Europa//Events//EN
CALSCALE:GREGORIAN
METHOD:PUBLISH
BEGIN:VEVENT
UID:politieke-babbel-gent-2025-04-17-1744909200@voltbelgium.org
DTSTAMP:20260423T105828Z
DTSTART;TZID=Europe/Amsterdam:20250417T190000
DTEND;TZID=Europe/Amsterdam:20250417T220000
SUMMARY:Politieke Babbel “Europese Identiteit”
DESCRIPTION:We bespreken informeel het politieke thema “Europese identite
 it”. Iedereen krijgt de kans zijn mening en ideeën te beargumenteren\, a
 lsook nieuwe punten aan te brengen. Volt voorziet een aantal stellingen om 
 het debat aan te vuren. Iedereen is welkom op dit kosteloze evenement.
LOCATION:Café Monopole\, Kon. Elisabethlaan 65\, 9000 Gent
URL:https://voltbelgie.org/oost-vlaanderen/agenda/politieke-babbel-gent-202
 5-04-17
END:VEVENT
END:VCALENDAR
